BEGIN:VCALENDAR
VERSION:2.0
PRODID:-//wp-events-plugin.com//6.5.2//EN
TZID:Europe/Paris
X-WR-TIMEZONE:Europe/Paris
BEGIN:VEVENT
UID:419@aikido-saint-andiol.fr
DTSTART;TZID=Europe/Paris:20241224T123000
DTEND;TZID=Europe/Paris:20241224T133000
DTSTAMP:20240906T101418Z
URL:https://aikido-saint-andiol.fr/?event=initiation-decouverte-aikido-ren
 forcement-musculaire-2024-12-24
SUMMARY:Initiation\, découverte Aikido\, renforcement musculaire
DESCRIPTION:
LOCATION:Dojo du Château de Saint-Andiol\, Château de Saint-Andiol\, Sain
 t-Andiol\, Provence-Alpes-Côte d'Azur\, 13670\, Bouches-du-Rhône\, Franc
 e
GEO:43.837562;4.944633
X-APPLE-STRUCTURED-LOCATION;VALUE=URI;X-ADDRESS=Château de Saint-Andiol\, 
 Saint-Andiol\, Provence-Alpes-Côte d'Azur\, 13670\, Bouches-du-Rhône\, F
 rance;X-APPLE-RADIUS=100;X-TITLE=Dojo du Château de Saint-Andiol:geo:43.8
 37562,4.944633
END:VEVENT
BEGIN:VTIMEZONE
TZID:Europe/Paris
X-LIC-LOCATION:Europe/Paris
BEGIN:STANDARD
DTSTART:20241027T020000
TZOFFSETFROM:+0200
TZOFFSETTO:+0100
TZNAME:CET
END:STANDARD
END:VTIMEZONE
END:VCALENDAR