BEGIN:VCALENDAR
VERSION:2.0
PRODID:-//wp-events-plugin.com//6.5.2//EN
TZID:Europe/Paris
X-WR-TIMEZONE:Europe/Paris
BEGIN:VEVENT
UID:513@aikido-saint-andiol.fr
DTSTART;TZID=Europe/Paris:20250611T130000
DTEND;TZID=Europe/Paris:20250611T160000
DTSTAMP:20240906T100444Z
URL:https://aikido-saint-andiol.fr/?event=aikido-enfants-2025-06-11
SUMMARY:Aikido enfants
DESCRIPTION:
LOCATION:Dojo du Château de Saint-Andiol\, Château de Saint-Andiol\, Sain
 t-Andiol\, Provence-Alpes-Côte d'Azur\, 13670\, Bouches-du-Rhône\, Franc
 e
GEO:43.837562;4.944633
X-APPLE-STRUCTURED-LOCATION;VALUE=URI;X-ADDRESS=Château de Saint-Andiol\, 
 Saint-Andiol\, Provence-Alpes-Côte d'Azur\, 13670\, Bouches-du-Rhône\, F
 rance;X-APPLE-RADIUS=100;X-TITLE=Dojo du Château de Saint-Andiol:geo:43.8
 37562,4.944633
END:VEVENT
BEGIN:VTIMEZONE
TZID:Europe/Paris
X-LIC-LOCATION:Europe/Paris
BEGIN:DAYLIGHT
DTSTART:20250330T030000
TZOFFSETFROM:+0100
TZOFFSETTO:+0200
TZNAME:CEST
END:DAYLIGHT
END:VTIMEZONE
END:VCALENDAR